View In:
ArcGIS JavaScript
ArcGIS Online Map Viewer
ArcGIS Earth
Service Description: Imagery/Imagery2018_New_A
Name: Imagery/Imagery2018_New_A
Description:
Single Fused Map Cache: false
Extent:
XMin: 2302277.91665514
YMin: 2147746.50162969
XMax: 2351261.9161653
YMax: 2217122.1676026
Spatial Reference: 102670
(2243)
Initial Extent:
XMin: 2302277.91665514
YMin: 2147746.50162969
XMax: 2351261.9161653
YMax: 2217122.1676026
Spatial Reference: 102670
(2243)
Full Extent:
XMin: 2302277.91665514
YMin: 2147746.50162969
XMax: 2351261.9161653
YMax: 2217122.1676026
Spatial Reference: 102670
(2243)
Pixel Size X: 0.33333333000000126
Pixel Size Y: 0.3333333299999995
Band Count: 3
Pixel Type: U8
RasterFunction Infos: {"rasterFunctionInfos": [{
"name": "None",
"description": "",
"help": ""
}]}
Mensuration Capabilities: Basic
Inspection Capabilities:
Has Histograms: true
Has Colormap: false
Has Multi Dimensions : false
Rendering Rule:
Min Scale: 0
Max Scale: 0
Copyright Text:
Service Data Type: esriImageServiceDataTypeRGB
Min Values: 32, 49, 20
Max Values: 255, 255, 255
Mean Values: 123.0089869281, 125.95179738562, 103.33183551198
Standard Deviation Values: 33.320098285212, 28.275178053147, 26.941047348828
Object ID Field:
Fields:
None
Default Mosaic Method: Center
Allowed Mosaic Methods:
SortField:
SortValue: null
Mosaic Operator: First
Default Compression Quality: 75
Default Resampling Method: Bilinear
Max Record Count: null
Max Image Height: 4100
Max Image Width: 15000
Max Download Image Count: null
Max Mosaic Image Count: null
Allow Raster Function: true
Allow Copy: true
Allow Analysis: true
Allow Compute TiePoints: false
Supports Statistics: false
Supports Advanced Queries: false
Use StandardizedQueries: true
Raster Type Infos:
Name: Raster Dataset
Description: Supports all ArcGIS Raster Datasets
Help:
Has Raster Attribute Table: false
Edit Fields Info: null
Ownership Based AccessControl For Rasters: null
Child Resources:
Info
Histograms
Statistics
Key Properties
Legend
Raster Function Infos
Supported Operations:
Export Image
Identify
Measure
Compute Histograms
Compute Statistics Histograms
Get Samples
Compute Class Statistics
Query Boundary
Compute Pixel Location
Compute Angles
Validate
Project