{
 "currentVersion": 11.3,
 "serviceDescription": "Imagery/Imagery2018_New_A",
 "name": "Imagery/Imagery2018_New_A",
 "description": "",
 "extent": {
  "xmin": 2302277.91665514,
  "ymin": 2147746.50162969,
  "xmax": 2351261.9161653,
  "ymax": 2217122.1676026,
  "spatialReference": {
   "wkid": 102670,
   "latestWkid": 2243
  }
 },
 "initialExtent": {
  "xmin": 2302277.91665514,
  "ymin": 2147746.50162969,
  "xmax": 2351261.9161653,
  "ymax": 2217122.1676026,
  "spatialReference": {
   "wkid": 102670,
   "latestWkid": 2243
  }
 },
 "fullExtent": {
  "xmin": 2302277.91665514,
  "ymin": 2147746.50162969,
  "xmax": 2351261.9161653,
  "ymax": 2217122.1676026,
  "spatialReference": {
   "wkid": 102670,
   "latestWkid": 2243
  }
 },
 "sortableFields": "",
 "bandCount": 3,
 "pixelType": "U8",
 "minValues": [
  32,
  49,
  20
 ],
 "maxValues": [
  255,
  255,
  255
 ],
 "meanValues": [
  123.0089869281,
  125.95179738562,
  103.33183551198
 ],
 "stdvValues": [
  33.320098285212,
  28.275178053147,
  26.941047348828
 ],
 "hasMultidimensions": false,
 "pixelSizeX": 0.33333333000000126,
 "pixelSizeY": 0.3333333299999995,
 "meanPixelSize": 0.10160020218440449,
 "datasetFormat": "MrSID",
 "uncompressedSize": 91754036712,
 "blockWidth": 1024,
 "blockHeight": 128,
 "compressionType": "Wavelet (MG3)",
 "bandNames": [
  "Band_1",
  "Band_2",
  "Band_3"
 ],
 "allowCopy": true,
 "allowAnalysis": true,
 "itemAccess": false,
 "inspectionCapabilities": "",
 "minPixelSize": 0,
 "maxPixelSize": 0,
 "copyrightText": "",
 "serviceDataType": "esriImageServiceDataTypeRGB",
 "serviceSourceType": "esriImageServiceSourceTypeDataset",
 "objectIdField": "",
 "fields": [],
 "capabilities": "Image,Metadata,Mensuration",
 "defaultMosaicMethod": "Center",
 "allowedMosaicMethods": "",
 "sortField": "",
 "sortValue": null,
 "sortAscending": true,
 "mosaicOperator": "First",
 "defaultCompressionQuality": 75,
 "defaultResamplingMethod": "Bilinear",
 "maxImageHeight": 4100,
 "maxImageWidth": 15000,
 "allowRasterFunction": true,
 "rasterFunctionInfos": [
  {
   "name": "None",
   "description": "",
   "help": ""
  }
 ],
 "rasterTypeInfos": [
  {
   "name": "Raster Dataset",
   "description": "Supports all ArcGIS Raster Datasets",
   "help": ""
  }
 ],
 "mensurationCapabilities": "Basic",
 "hasHistograms": true,
 "hasColormap": false,
 "hasRasterAttributeTable": false,
 "minScale": 0,
 "maxScale": 0,
 "exportTilesAllowed": false,
 "supportsStatistics": false,
 "supportsAdvancedQueries": false,
 "editFieldsInfo": null,
 "ownershipBasedAccessControlForRasters": null,
 "allowComputeTiePoints": false,
 "useStandardizedQueries": true,
 "advancedQueryCapabilities": {
  "useStandardizedQueries": true,
  "supportsStatistics": false,
  "supportsOrderBy": false,
  "supportsDistinct": false,
  "supportsPagination": false
 },
 "spatialReference": {
  "wkid": 102670,
  "latestWkid": 2243
 }
}
