View In:
ArcGIS JavaScript
ArcGIS Online Map Viewer
ArcGIS Earth
Service Description: Imagery/Imagery2018_C
Name: Imagery/Imagery2018_C
Description:
Single Fused Map Cache: false
Extent:
XMin: 2303433.58331025
YMin: 2216375.5009434
XMax: 2352552.91615239
YMax: 2306870.50003845
Spatial Reference: 102670
(2243)
Initial Extent:
XMin: 2303433.58331025
YMin: 2216375.5009434
XMax: 2352552.91615239
YMax: 2306870.50003845
Spatial Reference: 102670
(2243)
Full Extent:
XMin: 2303433.58331025
YMin: 2216375.5009434
XMax: 2352552.91615239
YMax: 2306870.50003845
Spatial Reference: 102670
(2243)
Pixel Size X: 0.3333333299999999
Pixel Size Y: 0.33333333000000054
Band Count: 3
Pixel Type: U8
RasterFunction Infos: {"rasterFunctionInfos": [{
"name": "None",
"description": "",
"help": ""
}]}
Mensuration Capabilities: Basic
Inspection Capabilities:
Has Histograms: true
Has Colormap: false
Has Multi Dimensions : false
Rendering Rule:
Min Scale: 0
Max Scale: 0
Copyright Text:
Service Data Type: esriImageServiceDataTypeRGB
Min Values: 11, 32, 28
Max Values: 255, 255, 255
Mean Values: 123.94820384294, 123.08281119465, 109.03759398496
Standard Deviation Values: 40.771609926171, 35.040490558258, 33.909411831414
Object ID Field:
Fields:
None
Default Mosaic Method: Center
Allowed Mosaic Methods:
SortField:
SortValue: null
Mosaic Operator: First
Default Compression Quality: 75
Default Resampling Method: Bilinear
Max Record Count: null
Max Image Height: 4100
Max Image Width: 15000
Max Download Image Count: null
Max Mosaic Image Count: null
Allow Raster Function: true
Allow Copy: true
Allow Analysis: true
Allow Compute TiePoints: false
Supports Statistics: false
Supports Advanced Queries: false
Use StandardizedQueries: true
Raster Type Infos:
Name: Raster Dataset
Description: Supports all ArcGIS Raster Datasets
Help:
Has Raster Attribute Table: false
Edit Fields Info: null
Ownership Based AccessControl For Rasters: null
Child Resources:
Info
Histograms
Statistics
Key Properties
Legend
Raster Function Infos
Supported Operations:
Export Image
Identify
Measure
Compute Histograms
Compute Statistics Histograms
Get Samples
Compute Class Statistics
Query Boundary
Compute Pixel Location
Compute Angles
Validate
Project