{
 "currentVersion": 11.3,
 "serviceDescription": "Imagery/Imagery2018_C",
 "name": "Imagery/Imagery2018_C",
 "description": "",
 "extent": {
  "xmin": 2303433.58331025,
  "ymin": 2216375.5009434,
  "xmax": 2352552.91615239,
  "ymax": 2306870.50003845,
  "spatialReference": {
   "wkid": 102670,
   "latestWkid": 2243
  }
 },
 "initialExtent": {
  "xmin": 2303433.58331025,
  "ymin": 2216375.5009434,
  "xmax": 2352552.91615239,
  "ymax": 2306870.50003845,
  "spatialReference": {
   "wkid": 102670,
   "latestWkid": 2243
  }
 },
 "fullExtent": {
  "xmin": 2303433.58331025,
  "ymin": 2216375.5009434,
  "xmax": 2352552.91615239,
  "ymax": 2306870.50003845,
  "spatialReference": {
   "wkid": 102670,
   "latestWkid": 2243
  }
 },
 "sortableFields": "",
 "bandCount": 3,
 "pixelType": "U8",
 "minValues": [
  11,
  32,
  28
 ],
 "maxValues": [
  255,
  255,
  255
 ],
 "meanValues": [
  123.94820384294,
  123.08281119465,
  109.03759398496
 ],
 "stdvValues": [
  40.771609926171,
  35.040490558258,
  33.909411831414
 ],
 "hasMultidimensions": false,
 "pixelSizeX": 0.3333333299999999,
 "pixelSizeY": 0.33333333000000054,
 "meanPixelSize": 0.10160020218440445,
 "datasetFormat": "MrSID",
 "uncompressedSize": 120016459890,
 "blockWidth": 1024,
 "blockHeight": 128,
 "compressionType": "Wavelet (MG3)",
 "bandNames": [
  "Band_1",
  "Band_2",
  "Band_3"
 ],
 "allowCopy": true,
 "allowAnalysis": true,
 "itemAccess": false,
 "inspectionCapabilities": "",
 "minPixelSize": 0,
 "maxPixelSize": 0,
 "copyrightText": "",
 "serviceDataType": "esriImageServiceDataTypeRGB",
 "serviceSourceType": "esriImageServiceSourceTypeDataset",
 "objectIdField": "",
 "fields": [],
 "capabilities": "Image,Metadata,Mensuration",
 "defaultMosaicMethod": "Center",
 "allowedMosaicMethods": "",
 "sortField": "",
 "sortValue": null,
 "sortAscending": true,
 "mosaicOperator": "First",
 "defaultCompressionQuality": 75,
 "defaultResamplingMethod": "Bilinear",
 "maxImageHeight": 4100,
 "maxImageWidth": 15000,
 "allowRasterFunction": true,
 "rasterFunctionInfos": [
  {
   "name": "None",
   "description": "",
   "help": ""
  }
 ],
 "rasterTypeInfos": [
  {
   "name": "Raster Dataset",
   "description": "Supports all ArcGIS Raster Datasets",
   "help": ""
  }
 ],
 "mensurationCapabilities": "Basic",
 "hasHistograms": true,
 "hasColormap": false,
 "hasRasterAttributeTable": false,
 "minScale": 0,
 "maxScale": 0,
 "exportTilesAllowed": false,
 "supportsStatistics": false,
 "supportsAdvancedQueries": false,
 "editFieldsInfo": null,
 "ownershipBasedAccessControlForRasters": null,
 "allowComputeTiePoints": false,
 "useStandardizedQueries": true,
 "advancedQueryCapabilities": {
  "useStandardizedQueries": true,
  "supportsStatistics": false,
  "supportsOrderBy": false,
  "supportsDistinct": false,
  "supportsPagination": false
 },
 "spatialReference": {
  "wkid": 102670,
  "latestWkid": 2243
 }
}
