View In:
ArcGIS JavaScript
ArcGIS Online Map Viewer
ArcGIS Earth
Service Description: Imagery/Imagery2022_New_A
Name: Imagery/Imagery2022_New_A
Description:
Single Fused Map Cache: false
Extent:
XMin: 2301288
YMin: 2214168.5
XMax: 2401608
YMax: 2259048
Spatial Reference: 102670
(2243)
Initial Extent:
XMin: 2301288
YMin: 2214168.5
XMax: 2401608
YMax: 2259048
Spatial Reference: 102670
(2243)
Full Extent:
XMin: 2301288
YMin: 2214168.5
XMax: 2401608
YMax: 2259048
Spatial Reference: 102670
(2243)
Pixel Size X: 0.5
Pixel Size Y: 0.5
Band Count: 3
Pixel Type: U8
RasterFunction Infos: {"rasterFunctionInfos": [{
"name": "None",
"description": "",
"help": ""
}]}
Mensuration Capabilities: Basic
Inspection Capabilities:
Has Histograms: true
Has Colormap: false
Has Multi Dimensions : false
Rendering Rule:
Min Scale: 0
Max Scale: 0
Copyright Text:
Service Data Type: esriImageServiceDataTypeProcessed
Min Values: 16, 42, 33
Max Values: 255, 255, 255
Mean Values: 153.85227272727, 150.0487012987, 132.84183673469
Standard Deviation Values: 55.681856399782, 55.163086283264, 62.330453022515
Object ID Field:
Fields:
None
Default Mosaic Method: Center
Allowed Mosaic Methods:
SortField:
SortValue: null
Mosaic Operator: First
Default Compression Quality: 75
Default Resampling Method: Bilinear
Max Record Count: null
Max Image Height: 4100
Max Image Width: 15000
Max Download Image Count: null
Max Mosaic Image Count: null
Allow Raster Function: true
Allow Copy: true
Allow Analysis: true
Allow Compute TiePoints: false
Supports Statistics: false
Supports Advanced Queries: false
Use StandardizedQueries: true
Raster Type Infos:
Name: Raster Dataset
Description: Supports all ArcGIS Raster Datasets
Help:
Has Raster Attribute Table: false
Edit Fields Info: null
Ownership Based AccessControl For Rasters: null
Child Resources:
Info
Histograms
Statistics
Key Properties
Legend
Raster Function Infos
Supported Operations:
Export Image
Identify
Measure
Compute Histograms
Compute Statistics Histograms
Get Samples
Compute Class Statistics
Query Boundary
Compute Pixel Location
Compute Angles
Validate
Project