View In:
ArcGIS JavaScript
ArcGIS Online Map Viewer
ArcGIS Earth
Service Description: Imagery/Imagery2017_New_B
Name: Imagery/Imagery2017_New_B
Description:
Single Fused Map Cache: false
Extent:
XMin: 2302988.9063
YMin: 2190296.4166
XMax: 2330331.9063
YMax: 2238238.9166
Spatial Reference: 0
(0)
LatestVCSWkid(0)
Initial Extent:
XMin: 2302988.9063
YMin: 2190296.4166
XMax: 2330331.9063
YMax: 2238238.9166
Spatial Reference: 0
(0)
LatestVCSWkid(0)
Full Extent:
XMin: 2302988.9063
YMin: 2190296.4166
XMax: 2330331.9063
YMax: 2238238.9166
Spatial Reference: 0
(0)
LatestVCSWkid(0)
Pixel Size X: 0.25
Pixel Size Y: 0.25
Band Count: 3
Pixel Type: U8
RasterFunction Infos: {"rasterFunctionInfos": [{
"name": "None",
"description": "",
"help": ""
}]}
Mensuration Capabilities: Basic
Inspection Capabilities:
Has Histograms: true
Has Colormap: false
Has Multi Dimensions : false
Rendering Rule:
Min Scale: 0
Max Scale: 0
Copyright Text:
Service Data Type: esriImageServiceDataTypeRGB
Min Values: 22, 34, 16
Max Values: 255, 255, 255
Mean Values: 122.64302600473, 121.63396375099, 94.223601260835
Standard Deviation Values: 32.990450307467, 30.984788410042, 34.572804408706
Object ID Field:
Fields:
None
Default Mosaic Method: Center
Allowed Mosaic Methods:
SortField:
SortValue: null
Mosaic Operator: First
Default Compression Quality: 75
Default Resampling Method: Bilinear
Max Record Count: null
Max Image Height: 4100
Max Image Width: 15000
Max Download Image Count: null
Max Mosaic Image Count: null
Allow Raster Function: true
Allow Copy: true
Allow Analysis: true
Allow Compute TiePoints: false
Supports Statistics: false
Supports Advanced Queries: false
Use StandardizedQueries: true
Raster Type Infos:
Name: Raster Dataset
Description: Supports all ArcGIS Raster Datasets
Help:
Has Raster Attribute Table: false
Edit Fields Info: null
Ownership Based AccessControl For Rasters: null
Child Resources:
Info
Histograms
Statistics
Key Properties
Legend
Raster Function Infos
Supported Operations:
Export Image
Identify
Measure
Compute Histograms
Compute Statistics Histograms
Get Samples
Compute Class Statistics
Query Boundary
Compute Pixel Location
Compute Angles
Validate
Project