View In:
ArcGIS JavaScript
ArcGIS Online Map Viewer
ArcGIS Earth
Service Description: Imagery/Imagery2015_New
Name: Imagery/Imagery2015_New
Description:
Single Fused Map Cache: false
Extent:
XMin: 2302989
YMin: 2178923
XMax: 2399466
YMax: 2258686.5
Spatial Reference: PROJCS["TMIDAWFT83",GEOGCS["GCS_North_American_1983",DATUM["D_North_American_1983",SPHEROID["GRS_1980",6378137.0,298.257222101]],PRIMEM["Greenwich",0.0],UNIT["Degree",0.0174532925199433]],PROJECTION["Transverse_Mercator"],PARAMETER["False_Easting",2624666.666],PARAMETER["False_Northing",0.0],PARAMETER["Central_Meridian",-115.74999998949],PARAMETER["Scale_Factor",0.999933333],PARAMETER["Latitude_Of_Origin",41.6666666859006],UNIT["Foot_US",0.3048006096012192]]
Initial Extent:
XMin: 2302989
YMin: 2178923
XMax: 2399466
YMax: 2258686.5
Spatial Reference: PROJCS["TMIDAWFT83",GEOGCS["GCS_North_American_1983",DATUM["D_North_American_1983",SPHEROID["GRS_1980",6378137.0,298.257222101]],PRIMEM["Greenwich",0.0],UNIT["Degree",0.0174532925199433]],PROJECTION["Transverse_Mercator"],PARAMETER["False_Easting",2624666.666],PARAMETER["False_Northing",0.0],PARAMETER["Central_Meridian",-115.74999998949],PARAMETER["Scale_Factor",0.999933333],PARAMETER["Latitude_Of_Origin",41.6666666859006],UNIT["Foot_US",0.3048006096012192]]
Full Extent:
XMin: 2302989
YMin: 2178923
XMax: 2399466
YMax: 2258686.5
Spatial Reference: PROJCS["TMIDAWFT83",GEOGCS["GCS_North_American_1983",DATUM["D_North_American_1983",SPHEROID["GRS_1980",6378137.0,298.257222101]],PRIMEM["Greenwich",0.0],UNIT["Degree",0.0174532925199433]],PROJECTION["Transverse_Mercator"],PARAMETER["False_Easting",2624666.666],PARAMETER["False_Northing",0.0],PARAMETER["Central_Meridian",-115.74999998949],PARAMETER["Scale_Factor",0.999933333],PARAMETER["Latitude_Of_Origin",41.6666666859006],UNIT["Foot_US",0.3048006096012192]]
Pixel Size X: 0.5
Pixel Size Y: 0.5
Band Count: 3
Pixel Type: U8
RasterFunction Infos: {"rasterFunctionInfos": [{
"name": "None",
"description": "",
"help": ""
}]}
Mensuration Capabilities: Basic
Inspection Capabilities:
Has Histograms: true
Has Colormap: false
Has Multi Dimensions : false
Rendering Rule:
Min Scale: 0
Max Scale: 0
Copyright Text:
Service Data Type: esriImageServiceDataTypeRGB
Min Values: 0, 21, 22
Max Values: 255, 255, 255
Mean Values: 151.1649122807, 150.04736842105, 131.04628879892
Standard Deviation Values: 64.385311605197, 62.060144931278, 71.7013214925
Object ID Field:
Fields:
None
Default Mosaic Method: Center
Allowed Mosaic Methods:
SortField:
SortValue: null
Mosaic Operator: First
Default Compression Quality: 75
Default Resampling Method: Bilinear
Max Record Count: null
Max Image Height: 4100
Max Image Width: 15000
Max Download Image Count: null
Max Mosaic Image Count: null
Allow Raster Function: true
Allow Copy: true
Allow Analysis: true
Allow Compute TiePoints: false
Supports Statistics: false
Supports Advanced Queries: false
Use StandardizedQueries: true
Raster Type Infos:
Name: Raster Dataset
Description: Supports all ArcGIS Raster Datasets
Help:
Has Raster Attribute Table: false
Edit Fields Info: null
Ownership Based AccessControl For Rasters: null
Child Resources:
Info
Histograms
Statistics
Key Properties
Legend
Raster Function Infos
Supported Operations:
Export Image
Identify
Measure
Compute Histograms
Compute Statistics Histograms
Get Samples
Compute Class Statistics
Query Boundary
Compute Pixel Location
Compute Angles
Validate
Project