{
 "currentVersion": 11.3,
 "serviceDescription": "Imagery/Imagery2018_New_B",
 "name": "Imagery/Imagery2018_New_B",
 "description": "",
 "extent": {
  "xmin": 2350278.24950847,
  "ymin": 2147248.50163467,
  "xmax": 2430600.58203858,
  "ymax": 2216375.5009434,
  "spatialReference": {
   "wkid": 102670,
   "latestWkid": 2243
  }
 },
 "initialExtent": {
  "xmin": 2350278.24950847,
  "ymin": 2147248.50163467,
  "xmax": 2430600.58203858,
  "ymax": 2216375.5009434,
  "spatialReference": {
   "wkid": 102670,
   "latestWkid": 2243
  }
 },
 "fullExtent": {
  "xmin": 2350278.24950847,
  "ymin": 2147248.50163467,
  "xmax": 2430600.58203858,
  "ymax": 2216375.5009434,
  "spatialReference": {
   "wkid": 102670,
   "latestWkid": 2243
  }
 },
 "sortableFields": "",
 "bandCount": 3,
 "pixelType": "U8",
 "minValues": [
  44,
  57,
  30
 ],
 "maxValues": [
  255,
  255,
  255
 ],
 "meanValues": [
  156.15520106348,
  161.89032901296,
  146.87637088734
 ],
 "stdvValues": [
  64.917501449029,
  59.820329771432,
  68.285517748549
 ],
 "hasMultidimensions": false,
 "pixelSizeX": 0.3333333300000006,
 "pixelSizeY": 0.33333333000000004,
 "meanPixelSize": 0.10160020218440448,
 "datasetFormat": "MrSID",
 "uncompressedSize": 149915932281,
 "blockWidth": 1024,
 "blockHeight": 128,
 "compressionType": "Wavelet (MG3)",
 "bandNames": [
  "Band_1",
  "Band_2",
  "Band_3"
 ],
 "allowCopy": true,
 "allowAnalysis": true,
 "itemAccess": false,
 "inspectionCapabilities": "",
 "minPixelSize": 0,
 "maxPixelSize": 0,
 "copyrightText": "",
 "serviceDataType": "esriImageServiceDataTypeRGB",
 "serviceSourceType": "esriImageServiceSourceTypeDataset",
 "objectIdField": "",
 "fields": [],
 "capabilities": "Image,Metadata,Mensuration",
 "defaultMosaicMethod": "Center",
 "allowedMosaicMethods": "",
 "sortField": "",
 "sortValue": null,
 "sortAscending": true,
 "mosaicOperator": "First",
 "defaultCompressionQuality": 75,
 "defaultResamplingMethod": "Bilinear",
 "maxImageHeight": 4100,
 "maxImageWidth": 15000,
 "allowRasterFunction": true,
 "rasterFunctionInfos": [
  {
   "name": "None",
   "description": "",
   "help": ""
  }
 ],
 "rasterTypeInfos": [
  {
   "name": "Raster Dataset",
   "description": "Supports all ArcGIS Raster Datasets",
   "help": ""
  }
 ],
 "mensurationCapabilities": "Basic",
 "hasHistograms": true,
 "hasColormap": false,
 "hasRasterAttributeTable": false,
 "minScale": 0,
 "maxScale": 0,
 "exportTilesAllowed": false,
 "supportsStatistics": false,
 "supportsAdvancedQueries": false,
 "editFieldsInfo": null,
 "ownershipBasedAccessControlForRasters": null,
 "allowComputeTiePoints": false,
 "useStandardizedQueries": true,
 "advancedQueryCapabilities": {
  "useStandardizedQueries": true,
  "supportsStatistics": false,
  "supportsOrderBy": false,
  "supportsDistinct": false,
  "supportsPagination": false
 },
 "spatialReference": {
  "wkid": 102670,
  "latestWkid": 2243
 }
}
