<?xml version="1.0" encoding="UTF-8" standalone="no"?>
<metadata xml:lang="en">
<Esri>
<CreaDate>20200821</CreaDate>
<CreaTime>11063700</CreaTime>
<ArcGISFormat>1.0</ArcGISFormat>
<SyncOnce>FALSE</SyncOnce>
<DataProperties>
<lineage>
<Process Date="20200821" Time="110637" ToolSource="c:\program files\arcgis\pro\Resources\ArcToolbox\toolboxes\Data Management Tools.tbx\CreateMosaicDataset">CreateMosaicDataset "\\gis-svr\GISD\GIS_SHARED\NLowe\Image Processing.gdb" Mosaic2005 PROJCS['NAD_1983_StatePlane_Idaho_West_FIPS_1103_Feet',GEOGCS['GCS_North_American_1983',DATUM['D_North_American_1983',SPHEROID['GRS_1980',6378137.0,298.257222101]],PRIMEM['Greenwich',0.0],UNIT['Degree',0.0174532925199433]],PROJECTION['Transverse_Mercator'],PARAMETER['False_Easting',2624666.666666666],PARAMETER['False_Northing',0.0],PARAMETER['Central_Meridian',-115.75],PARAMETER['Scale_Factor',0.9999333333333333],PARAMETER['Latitude_Of_Origin',41.66666666666666],UNIT['Foot_US',0.3048006096012192]] 3 "8-bit unsigned" None #</Process>
<Process Date="20200821" Time="111028" ToolSource="c:\program files\arcgis\pro\Resources\ArcToolbox\toolboxes\Data Management Tools.tbx\AddRastersToMosaicDataset">AddRastersToMosaicDataset "\\gis-svr\GISD\GIS_SHARED\NLowe\Image Processing.gdb\Mosaic2005" "Raster Dataset" 'Y:\GIS_SHARED\NLowe\Image Processing.gdb\ProjectRaster_OutRaster_In_City_t2319_2211';'Y:\GIS_SHARED\NLowe\Image Processing.gdb\ProjectRaster_OutRaster_In_City_t2352_2202';'Y:\GIS_SHARED\NLowe\Image Processing.gdb\ProjectRaster_OutRaster_In_City_t2349_2199' UPDATE_CELL_SIZES UPDATE_BOUNDARY NO_OVERVIEWS # 0.5 6000 "PROJCS['NAD_1983_StatePlane_Idaho_West_FIPS_1103_Feet',GEOGCS['GCS_North_American_1983',DATUM['D_North_American_1983',SPHEROID['GRS_1980',6378137.0,298.257222101]],PRIMEM['Greenwich',0.0],UNIT['Degree',0.0174532925199433]],PROJECTION['Transverse_Mercator'],PARAMETER['False_Easting',2624666.666666666],PARAMETER['False_Northing',0.0],PARAMETER['Central_Meridian',-115.75],PARAMETER['Scale_Factor',0.9999333333333333],PARAMETER['Latitude_Of_Origin',41.66666666666666],UNIT['Foot_US',0.3048006096012192]];-15822599.9998905 -47951699.9998918 31249.9999708962;0 1;0 1;2.56000000238419E-04;2;0.001;IsHighPrecision" # SUBFOLDERS "Allow duplicates" BUILD_PYRAMIDS NO_STATISTICS NO_THUMBNAILS # NO_FORCE_SPATIAL_REFERENCE NO_STATISTICS # NO_PIXEL_CACHE C:\Users\nlowe\AppData\Local\ESRI\rasterproxies\Mosaic2005</Process>
<Process Date="20200821" Time="111734" ToolSource="c:\program files\arcgis\pro\Resources\ArcToolbox\toolboxes\Data Management Tools.tbx\AddRastersToMosaicDataset">AddRastersToMosaicDataset "\\gis-svr\GISD\GIS_SHARED\NLowe\Image Processing.gdb\Mosaic2005" "Raster Dataset" 'Y:\GIS_SHARED\NLowe\Image Processing.gdb\ProjectRaster_OutRaster_In_City_t2310_2199';'Y:\GIS_SHARED\NLowe\Image Processing.gdb\ProjectRaster_OutRaster_In_City_t2310_2202';'Y:\GIS_SHARED\NLowe\Image Processing.gdb\ProjectRaster_OutRaster_In_City_t2310_2205';'Y:\GIS_SHARED\NLowe\Image Processing.gdb\ProjectRaster_OutRaster_In_City_t2313_2199';'Y:\GIS_SHARED\NLowe\Image Processing.gdb\ProjectRaster_OutRaster_In_City_t2313_2202';'Y:\GIS_SHARED\NLowe\Image Processing.gdb\ProjectRaster_OutRaster_In_City_t2313_2205';'Y:\GIS_SHARED\NLowe\Image Processing.gdb\ProjectRaster_OutRaster_In_City_t2316_2199';'Y:\GIS_SHARED\NLowe\Image Processing.gdb\ProjectRaster_OutRaster_In_City_t2316_2202';'Y:\GIS_SHARED\NLowe\Image Processing.gdb\ProjectRaster_OutRaster_In_City_t2316_2205';'Y:\GIS_SHARED\NLowe\Image Processing.gdb\ProjectRaster_OutRaster_In_City_t2316_2208';'Y:\GIS_SHARED\NLowe\Image Processing.gdb\ProjectRaster_OutRaster_In_City_t2319_2205';'Y:\GIS_SHARED\NLowe\Image Processing.gdb\ProjectRaster_OutRaster_In_City_t2319_2208';'Y:\GIS_SHARED\NLowe\Image Processing.gdb\ProjectRaster_OutRaster_In_City_t2319_2211';'Y:\GIS_SHARED\NLowe\Image Processing.gdb\ProjectRaster_OutRaster_In_City_t2322_2205';'Y:\GIS_SHARED\NLowe\Image Processing.gdb\ProjectRaster_OutRaster_In_City_t2322_2208';'Y:\GIS_SHARED\NLowe\Image Processing.gdb\ProjectRaster_OutRaster_In_City_t2322_2211';'Y:\GIS_SHARED\NLowe\Image Processing.gdb\ProjectRaster_OutRaster_In_City_t2322_2214';'Y:\GIS_SHARED\NLowe\Image Processing.gdb\ProjectRaster_OutRaster_In_City_t2322_2217';'Y:\GIS_SHARED\NLowe\Image Processing.gdb\ProjectRaster_OutRaster_In_City_t2325_2202';'Y:\GIS_SHARED\NLowe\Image Processing.gdb\ProjectRaster_OutRaster_In_City_t2325_2205';'Y:\GIS_SHARED\NLowe\Image Processing.gdb\ProjectRaster_OutRaster_In_City_t2325_2208';'Y:\GIS_SHARED\NLowe\Image Processing.gdb\ProjectRaster_OutRaster_In_City_t2325_2211';'Y:\GIS_SHARED\NLowe\Image Processing.gdb\ProjectRaster_OutRaster_In_City_t2325_2214';'Y:\GIS_SHARED\NLowe\Image Processing.gdb\ProjectRaster_OutRaster_In_City_t2325_2217';'Y:\GIS_SHARED\NLowe\Image Processing.gdb\ProjectRaster_OutRaster_In_City_t2328_2202';'Y:\GIS_SHARED\NLowe\Image Processing.gdb\ProjectRaster_OutRaster_In_City_t2328_2205';'Y:\GIS_SHARED\NLowe\Image Processing.gdb\ProjectRaster_OutRaster_In_City_t2328_2208';'Y:\GIS_SHARED\NLowe\Image Processing.gdb\ProjectRaster_OutRaster_In_City_t2328_2211';'Y:\GIS_SHARED\NLowe\Image Processing.gdb\ProjectRaster_OutRaster_In_City_t2328_2214';'Y:\GIS_SHARED\NLowe\Image Processing.gdb\ProjectRaster_OutRaster_In_City_t2328_2217';'Y:\GIS_SHARED\NLowe\Image Processing.gdb\ProjectRaster_OutRaster_In_City_t2331_2202';'Y:\GIS_SHARED\NLowe\Image Processing.gdb\ProjectRaster_OutRaster_In_City_t2331_2205';'Y:\GIS_SHARED\NLowe\Image Processing.gdb\ProjectRaster_OutRaster_In_City_t2331_2208';'Y:\GIS_SHARED\NLowe\Image Processing.gdb\ProjectRaster_OutRaster_In_City_t2331_2211';'Y:\GIS_SHARED\NLowe\Image Processing.gdb\ProjectRaster_OutRaster_In_City_t2331_2214';'Y:\GIS_SHARED\NLowe\Image Processing.gdb\ProjectRaster_OutRaster_In_City_t2331_2217';'Y:\GIS_SHARED\NLowe\Image Processing.gdb\ProjectRaster_OutRaster_In_City_t2334_2199';'Y:\GIS_SHARED\NLowe\Image Processing.gdb\ProjectRaster_OutRaster_In_City_t2334_2202';'Y:\GIS_SHARED\NLowe\Image Processing.gdb\ProjectRaster_OutRaster_In_City_t2334_2205';'Y:\GIS_SHARED\NLowe\Image Processing.gdb\ProjectRaster_OutRaster_In_City_t2334_2208';'Y:\GIS_SHARED\NLowe\Image Processing.gdb\ProjectRaster_OutRaster_In_City_t2334_2211';'Y:\GIS_SHARED\NLowe\Image Processing.gdb\ProjectRaster_OutRaster_In_City_t2334_2214';'Y:\GIS_SHARED\NLowe\Image Processing.gdb\ProjectRaster_OutRaster_In_City_t2334_2217';'Y:\GIS_SHARED\NLowe\Image Processing.gdb\ProjectRaster_OutRaster_In_City_t2337_2199';'Y:\GIS_SHARED\NLowe\Image Processing.gdb\ProjectRaster_OutRaster_In_City_t2337_2202';'Y:\GIS_SHARED\NLowe\Image Processing.gdb\ProjectRaster_OutRaster_In_City_t2337_2205';'Y:\GIS_SHARED\NLowe\Image Processing.gdb\ProjectRaster_OutRaster_In_City_t2337_2208';'Y:\GIS_SHARED\NLowe\Image Processing.gdb\ProjectRaster_OutRaster_In_City_t2337_2211';'Y:\GIS_SHARED\NLowe\Image Processing.gdb\ProjectRaster_OutRaster_In_City_t2337_2214';'Y:\GIS_SHARED\NLowe\Image Processing.gdb\ProjectRaster_OutRaster_In_City_t2337_2217';'Y:\GIS_SHARED\NLowe\Image Processing.gdb\ProjectRaster_OutRaster_In_City_t2340_2199';'Y:\GIS_SHARED\NLowe\Image Processing.gdb\ProjectRaster_OutRaster_In_City_t2340_2202';'Y:\GIS_SHARED\NLowe\Image Processing.gdb\ProjectRaster_OutRaster_In_City_t2340_2205';'Y:\GIS_SHARED\NLowe\Image Processing.gdb\ProjectRaster_OutRaster_In_City_t2340_2208';'Y:\GIS_SHARED\NLowe\Image Processing.gdb\ProjectRaster_OutRaster_In_City_t2340_2211';'Y:\GIS_SHARED\NLowe\Image Processing.gdb\ProjectRaster_OutRaster_In_City_t2340_2214';'Y:\GIS_SHARED\NLowe\Image Processing.gdb\ProjectRaster_OutRaster_In_City_t2340_2217';'Y:\GIS_SHARED\NLowe\Image Processing.gdb\ProjectRaster_OutRaster_In_City_t2343_2199';'Y:\GIS_SHARED\NLowe\Image Processing.gdb\ProjectRaster_OutRaster_In_City_t2343_2202';'Y:\GIS_SHARED\NLowe\Image Processing.gdb\ProjectRaster_OutRaster_In_City_t2343_2205';'Y:\GIS_SHARED\NLowe\Image Processing.gdb\ProjectRaster_OutRaster_In_City_t2343_2208';'Y:\GIS_SHARED\NLowe\Image Processing.gdb\ProjectRaster_OutRaster_In_City_t2343_2211';'Y:\GIS_SHARED\NLowe\Image Processing.gdb\ProjectRaster_OutRaster_In_City_t2343_2214';'Y:\GIS_SHARED\NLowe\Image Processing.gdb\ProjectRaster_OutRaster_In_City_t2343_2217';'Y:\GIS_SHARED\NLowe\Image Processing.gdb\ProjectRaster_OutRaster_In_City_t2346_2199';'Y:\GIS_SHARED\NLowe\Image Processing.gdb\ProjectRaster_OutRaster_In_City_t2346_2202';'Y:\GIS_SHARED\NLowe\Image Processing.gdb\ProjectRaster_OutRaster_In_City_t2346_2205';'Y:\GIS_SHARED\NLowe\Image Processing.gdb\ProjectRaster_OutRaster_In_City_t2346_2211';'Y:\GIS_SHARED\NLowe\Image Processing.gdb\ProjectRaster_OutRaster_In_City_t2346_2214';'Y:\GIS_SHARED\NLowe\Image Processing.gdb\ProjectRaster_OutRaster_In_City_t2349_2199';'Y:\GIS_SHARED\NLowe\Image Processing.gdb\ProjectRaster_OutRaster_In_City_t2349_2202';'Y:\GIS_SHARED\NLowe\Image Processing.gdb\ProjectRaster_OutRaster_In_City_t2352_2202' UPDATE_CELL_SIZES UPDATE_BOUNDARY NO_OVERVIEWS # 0.5 6000 "PROJCS['NAD_1983_StatePlane_Idaho_West_FIPS_1103_Feet',GEOGCS['GCS_North_American_1983',DATUM['D_North_American_1983',SPHEROID['GRS_1980',6378137.0,298.257222101]],PRIMEM['Greenwich',0.0],UNIT['Degree',0.0174532925199433]],PROJECTION['Transverse_Mercator'],PARAMETER['False_Easting',2624666.666666666],PARAMETER['False_Northing',0.0],PARAMETER['Central_Meridian',-115.75],PARAMETER['Scale_Factor',0.9999333333333333],PARAMETER['Latitude_Of_Origin',41.66666666666666],UNIT['Foot_US',0.3048006096012192]];-15822599.9998905 -47951699.9998918 31249.9999708962;0 1;0 1;2.56000000238419E-04;2;0.001;IsHighPrecision" # SUBFOLDERS "Allow duplicates" BUILD_PYRAMIDS NO_STATISTICS NO_THUMBNAILS # NO_FORCE_SPATIAL_REFERENCE NO_STATISTICS # NO_PIXEL_CACHE C:\Users\nlowe\AppData\Local\ESRI\rasterproxies\Mosaic2005</Process>
<Process Date="20200821" Time="112349" ToolSource="c:\program files\arcgis\pro\Resources\ArcToolbox\toolboxes\Data Management Tools.tbx\AddRastersToMosaicDataset">AddRastersToMosaicDataset "\\gis-svr\GISD\GIS_SHARED\NLowe\Image Processing.gdb\Mosaic2005" "Raster Dataset" 'Y:\GIS_SHARED\NLowe\Image Processing.gdb\ProjectRaster_OutRaster_In_City_t2304_2202';'Y:\GIS_SHARED\NLowe\Image Processing.gdb\ProjectRaster_OutRaster_In_City_t2307_2199';'Y:\GIS_SHARED\NLowe\Image Processing.gdb\ProjectRaster_OutRaster_In_City_t2307_2202' UPDATE_CELL_SIZES UPDATE_BOUNDARY NO_OVERVIEWS # 3 6000 "PROJCS['NAD_1983_StatePlane_Idaho_West_FIPS_1103_Feet',GEOGCS['GCS_North_American_1983',DATUM['D_North_American_1983',SPHEROID['GRS_1980',6378137.0,298.257222101]],PRIMEM['Greenwich',0.0],UNIT['Degree',0.0174532925199433]],PROJECTION['Transverse_Mercator'],PARAMETER['False_Easting',2624666.666666666],PARAMETER['False_Northing',0.0],PARAMETER['Central_Meridian',-115.75],PARAMETER['Scale_Factor',0.9999333333333333],PARAMETER['Latitude_Of_Origin',41.66666666666666],UNIT['Foot_US',0.3048006096012192]];-15822599.9998905 -47951699.9998918 31249.9999708962;0 1;0 1;2.56000000238419E-04;2;0.001;IsHighPrecision" # SUBFOLDERS "Allow duplicates" BUILD_PYRAMIDS NO_STATISTICS NO_THUMBNAILS # NO_FORCE_SPATIAL_REFERENCE NO_STATISTICS # NO_PIXEL_CACHE C:\Users\nlowe\AppData\Local\ESRI\rasterproxies\Mosaic2005</Process>
<Process Date="20200821" Time="161055" ToolSource="c:\program files\arcgis\pro\Resources\ArcToolbox\toolboxes\Data Management Tools.tbx\CopyRaster">CopyRaster "\\gis-svr\GISD\GIS_SHARED\NLowe\Image Processing.gdb\Mosaic2005" "Y:\GIS_SHARED\NLowe\Aerial Locator\RasterProcessing\Default.gdb\Mosaic2005_CopyRaster1" # # 256 NONE NONE "8 bit unsigned" NONE NONE "JPEG format" NONE CURRENT_SLICE NO_TRANSPOSE</Process>
</lineage>
<itemProps>
<itemName Sync="TRUE">Mosaic2005_CopyRaster1</itemName>
<imsContentType Sync="TRUE">002</imsContentType>
<nativeExtBox>
<westBL Sync="TRUE">2304000.000000</westBL>
<eastBL Sync="TRUE">2355000.000000</eastBL>
<southBL Sync="TRUE">2199000.000000</southBL>
<northBL Sync="TRUE">2220000.000000</northBL>
<exTypeCode Sync="TRUE">1</exTypeCode>
</nativeExtBox>
<itemLocation>
<linkage Sync="TRUE">file://\\gis-svr\GISD\GIS_SHARED\NLowe\Aerial Locator\RasterProcessing\Default.gdb</linkage>
<protocol Sync="TRUE">Local Area Network</protocol>
</itemLocation>
</itemProps>
<coordRef>
<type Sync="TRUE">Projected</type>
<geogcsn Sync="TRUE">GCS_North_American_1983</geogcsn>
<csUnits Sync="TRUE">Linear Unit: Foot_US (0.304801)</csUnits>
<projcsn Sync="TRUE">NAD_1983_StatePlane_Idaho_West_FIPS_1103_Feet</projcsn>
<peXml Sync="TRUE">&lt;ProjectedCoordinateSystem xsi:type='typens:ProjectedCoordinateSystem' xmlns:xsi='http://www.w3.org/2001/XMLSchema-instance' xmlns:xs='http://www.w3.org/2001/XMLSchema' xmlns:typens='http://www.esri.com/schemas/ArcGIS/2.6.0'&gt;&lt;WKT&gt;PROJCS[&amp;quot;NAD_1983_StatePlane_Idaho_West_FIPS_1103_Feet&amp;quot;,GEOGCS[&amp;quot;GCS_North_American_1983&amp;quot;,DATUM[&amp;quot;D_North_American_1983&amp;quot;,SPHEROID[&amp;quot;GRS_1980&amp;quot;,6378137.0,298.257222101]],PRIMEM[&amp;quot;Greenwich&amp;quot;,0.0],UNIT[&amp;quot;Degree&amp;quot;,0.0174532925199433]],PROJECTION[&amp;quot;Transverse_Mercator&amp;quot;],PARAMETER[&amp;quot;False_Easting&amp;quot;,2624666.666666666],PARAMETER[&amp;quot;False_Northing&amp;quot;,0.0],PARAMETER[&amp;quot;Central_Meridian&amp;quot;,-115.75],PARAMETER[&amp;quot;Scale_Factor&amp;quot;,0.9999333333333333],PARAMETER[&amp;quot;Latitude_Of_Origin&amp;quot;,41.66666666666666],UNIT[&amp;quot;Foot_US&amp;quot;,0.3048006096012192],AUTHORITY[&amp;quot;EPSG&amp;quot;,2243]]&lt;/WKT&gt;&lt;XOrigin&gt;-15822600&lt;/XOrigin&gt;&lt;YOrigin&gt;-47951700&lt;/YOrigin&gt;&lt;XYScale&gt;137250677.77723414&lt;/XYScale&gt;&lt;ZOrigin&gt;-100000&lt;/ZOrigin&gt;&lt;ZScale&gt;10000&lt;/ZScale&gt;&lt;MOrigin&gt;-100000&lt;/MOrigin&gt;&lt;MScale&gt;10000&lt;/MScale&gt;&lt;XYTolerance&gt;0.0032808333333333331&lt;/XYTolerance&gt;&lt;ZTolerance&gt;0.001&lt;/ZTolerance&gt;&lt;MTolerance&gt;0.001&lt;/MTolerance&gt;&lt;HighPrecision&gt;true&lt;/HighPrecision&gt;&lt;WKID&gt;102670&lt;/WKID&gt;&lt;LatestWKID&gt;2243&lt;/LatestWKID&gt;&lt;/ProjectedCoordinateSystem&gt;</peXml>
</coordRef>
</DataProperties>
<SyncDate>20200821</SyncDate>
<SyncTime>16082800</SyncTime>
<ModDate>20200821</ModDate>
<ModTime>16082800</ModTime>
</Esri>
<dataIdInfo>
<envirDesc Sync="TRUE">Microsoft Windows 10 Version 10.0 (Build 19041) ; Esri ArcGIS 12.6.0.24783</envirDesc>
<dataLang>
<languageCode Sync="TRUE" value="eng"/>
<countryCode Sync="TRUE" value="USA"/>
</dataLang>
<idCitation>
<resTitle Sync="TRUE">Imagery2005_New</resTitle>
<presForm>
<PresFormCd Sync="TRUE" value="011"/>
</presForm>
</idCitation>
<spatRpType>
<SpatRepTypCd Sync="TRUE" value="002"/>
</spatRpType>
<dataExt>
<geoEle>
<GeoBndBox esriExtentType="search">
<exTypeCode Sync="TRUE">1</exTypeCode>
<westBL Sync="TRUE">-117.053516</westBL>
<eastBL Sync="TRUE">-116.845036</eastBL>
<northBL Sync="TRUE">47.750929</northBL>
<southBL Sync="TRUE">47.691203</southBL>
</GeoBndBox>
</geoEle>
</dataExt>
<idAbs/>
<idPurp/>
<idCredit/>
<resConst>
<Consts>
<useLimit/>
</Consts>
</resConst>
</dataIdInfo>
<mdLang>
<languageCode Sync="TRUE" value="eng"/>
<countryCode Sync="TRUE" value="USA"/>
</mdLang>
<distInfo>
<distFormat>
<formatName Sync="TRUE">File Geodatabase Raster Dataset</formatName>
</distFormat>
</distInfo>
<mdHrLv>
<ScopeCd Sync="TRUE" value="005"/>
</mdHrLv>
<mdHrLvName Sync="TRUE">dataset</mdHrLvName>
<refSysInfo>
<RefSystem>
<refSysID>
<identCode Sync="TRUE" code="2243"/>
<idCodeSpace Sync="TRUE">EPSG</idCodeSpace>
<idVersion Sync="TRUE">5.3(9.0.0)</idVersion>
</refSysID>
</RefSystem>
</refSysInfo>
<spdoinfo>
<rastinfo>
<rasttype Sync="TRUE">Pixel</rasttype>
<rowcount Sync="TRUE">42000</rowcount>
<colcount Sync="TRUE">102000</colcount>
<rastxsz Sync="TRUE">0.500000</rastxsz>
<rastysz Sync="TRUE">0.500000</rastysz>
<rastbpp Sync="TRUE">8</rastbpp>
<vrtcount Sync="TRUE">1</vrtcount>
<rastorig Sync="TRUE">Upper Left</rastorig>
<rastcmap Sync="TRUE">FALSE</rastcmap>
<rastcomp Sync="TRUE">LZ77</rastcomp>
<rastband Sync="TRUE">3</rastband>
<rastdtyp Sync="TRUE">pixel codes</rastdtyp>
<rastifor Sync="TRUE">FGDBR</rastifor>
<rastplyr Sync="TRUE">TRUE</rastplyr>
</rastinfo>
</spdoinfo>
<spref>
<horizsys>
<planar>
<planci>
<plance Sync="TRUE">row and column</plance>
<coordrep>
<absres Sync="TRUE">0.500000</absres>
<ordres Sync="TRUE">0.500000</ordres>
</coordrep>
</planci>
</planar>
</horizsys>
</spref>
<mdDateSt Sync="TRUE">20200821</mdDateSt>
</metadata>
